BEGIN:VCALENDAR
VERSION:2.0
PRODID:-//L’art, la culture et l’histoire  comme tremplins vers l’excellence.  - ECPv6.15.20//NONSGML v1.0//EN
CALSCALE:GREGORIAN
METHOD:PUBLISH
X-WR-CALNAME:L’art, la culture et l’histoire  comme tremplins vers l’excellence. 
X-ORIGINAL-URL:https://www.cultureliege.be
X-WR-CALDESC:Évènements pour L’art, la culture et l’histoire  comme tremplins vers l’excellence. 
REFRESH-INTERVAL;VALUE=DURATION:PT1H
X-Robots-Tag:noindex
X-PUBLISHED-TTL:PT1H
BEGIN:VTIMEZONE
TZID:Europe/Paris
BEGIN:DAYLIGHT
TZOFFSETFROM:+0100
TZOFFSETTO:+0200
TZNAME:CEST
DTSTART:20240331T010000
END:DAYLIGHT
BEGIN:STANDARD
TZOFFSETFROM:+0200
TZOFFSETTO:+0100
TZNAME:CET
DTSTART:20241027T010000
END:STANDARD
BEGIN:DAYLIGHT
TZOFFSETFROM:+0100
TZOFFSETTO:+0200
TZNAME:CEST
DTSTART:20250330T010000
END:DAYLIGHT
BEGIN:STANDARD
TZOFFSETFROM:+0200
TZOFFSETTO:+0100
TZNAME:CET
DTSTART:20251026T010000
END:STANDARD
BEGIN:DAYLIGHT
TZOFFSETFROM:+0100
TZOFFSETTO:+0200
TZNAME:CEST
DTSTART:20260329T010000
END:DAYLIGHT
BEGIN:STANDARD
TZOFFSETFROM:+0200
TZOFFSETTO:+0100
TZNAME:CET
DTSTART:20261025T010000
END:STANDARD
BEGIN:DAYLIGHT
TZOFFSETFROM:+0100
TZOFFSETTO:+0200
TZNAME:CEST
DTSTART:20270328T010000
END:DAYLIGHT
BEGIN:STANDARD
TZOFFSETFROM:+0200
TZOFFSETTO:+0100
TZNAME:CET
DTSTART:20271031T010000
END:STANDARD
END:VTIMEZONE
BEGIN:VEVENT
DTSTART;TZID=Europe/Paris:20251205T143000
DTEND;TZID=Europe/Paris:20261220T183000
DTSTAMP:20260422T013612
CREATED:20251117T132800Z
LAST-MODIFIED:20260413T113401Z
UID:55374-1764945000-1797791400@www.cultureliege.be
SUMMARY:Exposition : Oeuvre de poche au Quai4 Galerie à LIEGE
DESCRIPTION:Œuvre de poche\nExposition\n\n\n\n\n Exposition ouverte du 5 au 20 décembre 2025 les jeudi\, vendredi et samedi de 14:30 à 18:30 \n\n\n\n\n\nTitre            Œuvre de poche\n\n\nDates           Exposition ouverte du 5 au 20 décembre 2025\n\n\nHeures        les jeudi\, vendredi et samedi de 14:30 à 18:30\n\nLieu              au Quai4 Galerie\n                       Quai Churchill 4 – 4020 LIEGE\n\nEvènement Évènement du Quai4 Galerie\n\n\nDurée           08 Jours\n\n\nPublic           Public · Tout le monde sur ou en dehors de Facebook \n\n\n\n\n\nDescription\n\n\n\n\n\n\n\n\n\n\n\n\n\n\n \nOeuvre de poche\n\n\nBientôt une exposition à découvrir comme un cabinet de curiosité miniature réduit à un format intime transportable.\n\n\nAvec les artistes :\nHenriette Michaux\, Robin Vokaer\, E.D.M.\, Jacky Lecouturier\, Catherine Lambermont\, Jade Tang\, Mégane Likin\, Clara Bryon\, Anne Marie Klenes\, Maria Vita Goral\, Claire Lavendhomme.\n\n\nVERNISSAGE jeudi 4 décembre 2025 de 17:00 à 20:00.\n– \nExposition ouverte du 5 au 20 décembre 2025 & du 5 au 24 janvier 2026 \n\n\nles jeudi\, vendredi et samedi de 14:30 à 18:30\n\n\n\n\n\n\n\n\n\n\n\n\n\n\n\n\n\n\nPrix                              Entrée Libre\n\n\nQuai Churchill 4\n4020 Boverie – Liège – Belgique\n +32 476 91 28 01\ngalerie@quai4.be\n\n\n\n\n\n\n\n\n\n\nPour plus d’infos sur cet évènement\, n’hésitez pas à vous renseigner auprès de\n\n \nQuai4 Ga lerie \n\nQuai Churchill 4 – 4000 LIEGE\nMadame Cécile Servais\n                       0476/912 801 –  galeri e@quai4.be\n                       https://www.quai4.be/
URL:https://www.cultureliege.be/evenement/exposition-oeuvre-de-poche-au-quai4-galerie-a-liege/
LOCATION:Quai4 Galerie\, Quai Churchill 4\, LIEGE\, Liège\, 4020\, Belgique
CATEGORIES:Evénements,Expositions
ATTACH;FMTTYPE=image/jpeg:https://www.cultureliege.be/wp-content/uploads/2025/06/Quai4-Galerie.jpg
ORGANIZER;CN="Quai4 Galerie":MAILTO:galerie@quai4.be
END:VEVENT
BEGIN:VEVENT
DTSTART;TZID=Europe/Paris:20260129T100000
DTEND;TZID=Europe/Paris:20261129T180000
DTSTAMP:20260422T013612
CREATED:20260120T135848Z
LAST-MODIFIED:20260413T113401Z
UID:56767-1769680800-1795975200@www.cultureliege.be
SUMMARY:Exposition Temporaire : De l’Estampe au Manga\, le Japon Artistique à l'Abbaye de Stavelot
DESCRIPTION: De l’Estampe au Manga\, le Japon Artistique\n\n\nExpositions Temporaires\n\n\n\n\n Du 29 Janvier au 29 Novembre 2026 de 10H00 à 18H00 \n\n\n\n\n\n\n\n\n\nTitre            De l’Estampe au Manga\, le Japon Artistique\n\n\n\nDates           Du 29 Janvier au 29 Novembre 2026 de 10H00 à 18H00. \n\n Lieu              à L’Abbaye de Stavelot\n\n\n\n\n                       Cour de l’Abbaye 1 – 4970 STAVELOT\n\n\nEvènement Evènement de L’Abbaye de Stavelot\n\n\nDurée           10 Mois\nPublic          Public · Tout le monde sur ou en dehors de Facebook\n\n\n \n\n\n\nDescription\n\n\n\n\n\n\n\n\n\n\n\n\n\n\n\nDe l’Estampe au Manga\, le Japon Artistique \n  \nProchainement \n\n\n\n\n\n\n \n\n\nDes grands maîtres de l’estampe de l’époque Edo aux célèbres mangakas de l’époque contemporaine\, l’exposition met en lumière une tradition graphique et une culture esthétique qui s’est transmise au Japon depuis l’époque médiévale.\n\n\n \n\n\nL’estampe fait partie de la culture populaire destinée à un large public tout comme le manga aujourd’hui. Les thématiques et les symboles de l’estampe se retrouvent dans le manga contemporain sous de nouvelles formes\, transformant cet héritage vers la modernité.\n\n\n \n\n\nDe nombreux objets anciens accompagnent les estampes des grands maitres Hokusai \, Hiroshige et Utamaro\, révélant un savoir-faire artistique hors du commun. Celui-ci fascina l’Occident lorsque le Japon se présenta à l’Exposition universelle de Paris en 1867. L’art japonais engendra un engouement extraordinaire donnant naissance au japonisme.\n\n\n \n\n\nLes influences entre le Japon et l’Occident vont être réciproques. Alors que les Impressionnistes s’inspirent du Japon\, la bande dessinée occidentale et la presse satirique va transformer la narration graphique japonaise. Après la Seconde Guerre mondiale\, Osamu Tezuka\, « le dieu du manga »\, révolutionne le médium en introduisant des techniques cinématographiques inspirées par Walt Disney. Il pose les fondements du manga moderne qui se diversifie ensuite en genres spécifiques (shōnen\, shōjo\, seinen\, etc).\n\n\n \n\n\nDes grands noms du manga des années 80 à nos jours sont visibles aux cimaises de l’Abbaye de Stavelot : Dragon Ball\, One Piece\, Naruto\, Astro Boy\, Les Chevaliers du Zodiaque\, Nicky Larson\, Nausicaa la vallée du vent et bien d’autres héros présentés sous forme de dessins originaux\, dōgas et celluloïds ou encore en statuettes 3D.\n\n\n\n\n\n\n  \nPrix          ℹ️ Entrée Libre \n\n\n\n\n\n\n\n\n\n\n\n\n\n\n\n\nPour plus d’infos sur cet évènement et vous inscrire\, n’hésitez pas à vous renseigner auprès de\n\n\nL’Abbaye de Stavelot\n\n\nCour de l’Abbaye 1 – 4970 STAVELOT\n\n\n 080 88 08 78 –  etc@abbayedestavelot.be\n\n\n                  https://abbayedestavelot.be/\n\n                 L’Abbaye de Stavelot vous accueille du lundi au vendredi de 10H00 à 18H00. Sauf en congés scolaires\, l’Abbaye est fermée le lundi. \n\n\n\n\n\nCordiale(s) invitation(s) à tous(tes).
URL:https://www.cultureliege.be/evenement/exposition-temporaire-de-lestampe-au-manga-le-japon-artistique-a-labbaye-de-stavelot/
LOCATION:Abbaye de Stavelot\, Cour de l'Abbaye 1\, STAVELOT\, Liège\, 4970\, Belgique
CATEGORIES:Evénements,Expositions
ATTACH;FMTTYPE=image/jpeg:https://www.cultureliege.be/wp-content/uploads/2026/01/Abbaye-de-Stavelot.jpg
ORGANIZER;CN="Abbaye de Stavelot":MAILTO:etc@abbayedestavelot.be
END:VEVENT
BEGIN:VEVENT
DTSTART;TZID=Europe/Paris:20260319T090000
DTEND;TZID=Europe/Paris:20260428T170000
DTSTAMP:20260422T013612
CREATED:20260122T143239Z
LAST-MODIFIED:20260413T113401Z
UID:56820-1773910800-1777395600@www.cultureliege.be
SUMMARY:Exposition : HYBRIDATION avec Marine Counet et Cédric Collard au Centre culturel de THEUX
DESCRIPTION:Exposition : HYBRIDATION avec Marine Counet & Cédric Collard\nExposition\n\n\n Du 19 Mars au 28 Avril 2026 du lundi au vendredi de 09H00 à 17H00\n\n\n\n\n\n\nTitre            Exposition : HYBRIDATION avec Marine Counet & Cédric Collard\n\n\n\nDates            Du 19 Mars au 28 Avril 2026 du lundi au vendredi de 09H00 à 17H00 \nLieu             au Centre culturel de Theux\n\n\n\n                      Place P. Taskin 1 – 4910 THEUX\n\n\nEvènement Evènement du Centre culturel de THEUX\n\n\nDurée          22 Jours\nPublic          Public · Tout le monde sur ou en dehors de Facebook\n\n\n \n\n\n\nDescription\n\n\n\n\n\n\n\n\n\n\n\n\n\n\n\n HYBRIDATION️ \n\nAvec Marine Counet (illustration) & Cédric Collard (sculpture)\n\n\n️ Exposition\n\n\n DU 19 MARS AU 28 AVRIL 2026\n\n\n Au Centre Culturel – Place P. Taskin\n\n\n Vernissage jeudi 19 mars à 18h30\n\n\n \n\n\n_____\n\n\n \n\n\nDeux univers se rencontrent et se répondent dans cette exposition où la nature et la matière dialoguent.\n\n\n \n\n\nMarine Counet (Entomo Artist)\, illustratrice passionnée d’histoire naturelle\, rend hommage au monde fascinant des insectes. Inspirée des anciennes planches scientifiques\, elle combine la précision du pointillisme et la douceur de l’aquarelle pour révéler la beauté souvent méconnue de ces créatures délicates. Chaque dessin devient un écrin de patience\, un regard émerveillé sur la richesse du minuscule.\n\n\n \n\n\nCédric Collard (Coll’Art) redonne souffle à la matière. Dans son atelier\, la ferraille de récupération se transforme en animaux de métal\, expressifs et singuliers. Là où d’autres voient du rebut\, il voit des formes\, des textures\, une mémoire à réveiller.\n\n\nRéunis sous le titre Hybridation\, leurs oeuvres tissent un lien entre observation et transformation\, précision et instinct\, nature et création humaine. Une rencontre où chaque pièce témoigne du vivant !\n\n\n \n\n\n_____\n\n\n \n\n\n️ Exposition accessible à tous pendant les heures d’ouverture du Centre Culturel \n\n\n\n\n\n\n\n\n\n\n\n\n\n\n\nPrix          ℹ️ Entrée Libre\n\n\n\n\n\n\n\n\n\n\n\n\n\n\nUne organisation du Centre Culturel de Theux – www.cctheux.be – 087/646423 – centreculturel@theux.be\n\n\n\n\n\n\n\n\n\n\nPour plus d’infos sur cet évènement\, n’hésitez pas à vous renseigner auprès du\n\n\nCentre culturel de Theux\n\n\nMadame Hélène Verwilghen\n\n\nSecrétaire\n\n\n  Place Pascal Taskin 1 – 4910 THEUX\n\n\n 087/64.64.23 –  Centre.Culturel@theux.be\n\n\n                       https://www.cctheux.be/\n\n                        Heures d’ouverture : du Lundi au Vendredi de 09H00 à 17H00
URL:https://www.cultureliege.be/evenement/exposition-hybridation-avec-marine-counet-et-cedric-collard-au-centre-culturel-de-theux/
LOCATION:Centre culturel de Theux\, Place Pascal Taskin 1\, THEUX\, Liège\, 4910\, Belgique
CATEGORIES:Evénements,Expositions
ATTACH;FMTTYPE=image/jpeg:https://www.cultureliege.be/wp-content/uploads/2025/07/Centre-culturel-de-Theux.jpg
ORGANIZER;CN="Centre culturel de Theux":MAILTO:centreculturel@theux.be
END:VEVENT
BEGIN:VEVENT
DTSTART;TZID=Europe/Paris:20260421T200000
DTEND;TZID=Europe/Paris:20260517T220000
DTSTAMP:20260422T013612
CREATED:20260421T100416Z
LAST-MODIFIED:20260421T100416Z
UID:57295-1776801600-1779055200@www.cultureliege.be
SUMMARY:Le Temps des Cerises - A la Courte Echelle
DESCRIPTION:Le Temps des Cerises\nSpectacle de l’Atelier Théâtre Ados 16-18 ans \nVendredi 15 mai 2026 à 20h00\nSamedi 16 mai 2026 à 15h00\nDimanche 17 mai 2026 à 15h00 \nAu très traditionnel Collège de l’Enfant Jésus de Nazareth\, Madame Cellini\, nouvelle professeure de chant aux méthodes pédagogiques résolument progressistes\, se heurte rapidement à l’hostilité du corps enseignant. La confrontation entre ses pratiques novatrices et l’institution conservatrice prendra une tournure fatale.Un spectacle qui interroge un monde en mutation\, où des adultes déboussolés peinent à se réinventer tandis que les jeunes tentent d’imposer de nouvelles valeurs et de nouveaux modèles.Une création collective de et avec: \nLoan Barbas\, Phileas Blavier\, Eva Bragard\, Olga Collet\, Cyrille Dambermont\, Emir Demir\, Giorgia Detourbe\, Chloé George\, Olivia Grégoire\, Joséphine Hitabatuma\, Louise Mahiels\, Éléonore Ramesh Kumar\, Shaïna Rodriguez\, Eline Schoutteten\, Hadrien Thiry\, Zoé Vandewalle et Charlène Warnant.
URL:https://www.cultureliege.be/evenement/le-temps-des-cerises-a-la-courte-echelle/
LOCATION:A la courte Echelle\, rue de Rotterdam\, 29\, LIEGE\, Liège\, 4000\, Belgique
CATEGORIES:Evénements,Spectacles
ATTACH;FMTTYPE=image/png:https://www.cultureliege.be/wp-content/uploads/2026/04/A-la-Courte-Echelle.png
ORGANIZER;CN="A la courte Echelle":MAILTO:info@courte-echelle.be
END:VEVENT
BEGIN:VEVENT
DTSTART;TZID=Europe/Paris:20260422T130000
DTEND;TZID=Europe/Paris:20260422T170000
DTSTAMP:20260422T013612
CREATED:20260403T090931Z
LAST-MODIFIED:20260413T113358Z
UID:57055-1776862800-1776877200@www.cultureliege.be
SUMMARY:Ateliers de techniques artistiques - Culture Liège
DESCRIPTION:Ateliers de techniques artistiques \nAteliers créatifs\n📆 Tous les mercredis de 13H00 à 17H00\nTitre 🌼🎨 Ateliers de techniques artistiques 🎨🌼\nDate 📆 Tous les mercredis\nHeure 🕖 de 13H00 à 17H00\nLieu à la Galerie d’art Liège By Culture Liège ASBL\nau 1er étage de la Galerie Opéra\n📍 Place de la République Française 35/64 – 4000 LIEGE\nÉvènement Évènement de L’atelier créatif de Liège\, Culture Liège et Galerie d’art Liège\nDurée 04H00\nPublic à partit de 16 ans sans aucune expérience requise.\nDescription :\n🌼🎨 Ateliers de techniques artistiques 🎨🌼\nExplorez les bases de l’art ! Gouache\, acrylique\, crayons\, aquarelle… Découvrez différents médiums\, apprenez les gestes essentiels. Osez mélanges\, superpositions\, effets de matière et repartez avec vos premières créations uniques.\n💶 Prix : 25 €/atelier\n🎨 Matériel fourni\n👥 Maximum 8 participants\n⚠️ Date limite d’inscription : 1 semaine avant la séance\n📞 Réservations : 0496/31.39.88\n📧 Mail : ateliers@cultureliege.be\n💳 Versement sur le compte BE40 3631 8862 8563 = confirmation de réservation\n📝 Communication : TECHNIQUES ARTISTIQUES + DATE\nPrix : ℹ️ 25 €/atelier\nPour plus d’infos sur cet évènement\, n’hésitez pas à vous renseigner auprès de\nPascal\n📱 0496/31.39.88 – 📧 ateliers@cultureliege.be
URL:https://www.cultureliege.be/evenement/ateliers-de-techniques-artistiques-culture-liege-3/
LOCATION:Galerie d’Art Liège By culture Liège\, Place de la République Française 35/64\, 4000\, Liège\, 4000\, Belgique
CATEGORIES:Ateliers créatifs,Evénements
ATTACH;FMTTYPE=image/jpeg:https://www.cultureliege.be/wp-content/uploads/2020/10/cropped-banniere_culture_liege-2-scaled-1.jpg
ORGANIZER;CN="Culture Li%C3%A8ge ASBL":MAILTO:contact@cultureliege.be
END:VEVENT
BEGIN:VEVENT
DTSTART;TZID=Europe/Paris:20260422T200000
DTEND;TZID=Europe/Paris:20260422T220000
DTSTAMP:20260422T013612
CREATED:20260421T094531Z
LAST-MODIFIED:20260421T094531Z
UID:57287-1776888000-1776895200@www.cultureliege.be
SUMMARY:Pat - Tout seul en scène - A la Courte Echelle
DESCRIPTION:Pat tout seul en scène\nUn spectacle 100 % improvisé \nMercredi 22 avril 2026 à 20h00 \nEntre souvenirs\, rêves\, fantasmes et peurs les plus profondes\, explorez les méandres de votre esprit comme jamais auparavant ! Une performance surréaliste où Patou\, une entité à la frontière du réel et de l’imaginaire\, et capable d’adopter mille formes\, vous permet de rencontrer vos pensées les plus enfouies pour leur faire face. \nDans ce spectacle unique en son genre\, l’improvisateur liégeois Patrick Coppens se servira de vos souvenirs\, vos pensées\, vos fantasmes et peurs afin de donner à notre inconscient collectif « une parole que jamais Freud et Jung n’avaient osé lui donner !  » (Lacan). \nUn spectacle interactif dans lequel Patrick ne sera donc pas vraiment tout seul en scène… »
URL:https://www.cultureliege.be/evenement/pat-tout-seul-en-scene-a-la-courte-echelle/
LOCATION:A la courte Echelle\, rue de Rotterdam\, 29\, LIEGE\, Liège\, 4000\, Belgique
CATEGORIES:Evénements,Spectacle Improvisation,Spectacles
ATTACH;FMTTYPE=image/png:https://www.cultureliege.be/wp-content/uploads/2026/04/A-la-Courte-Echelle.png
ORGANIZER;CN="A la courte Echelle":MAILTO:info@courte-echelle.be
END:VEVENT
BEGIN:VEVENT
DTSTART;TZID=Europe/Paris:20260422T200000
DTEND;TZID=Europe/Paris:20260426T213000
DTSTAMP:20260422T013612
CREATED:20260410T090000Z
LAST-MODIFIED:20260413T113403Z
UID:57133-1776888000-1777239000@www.cultureliege.be
SUMMARY:Mamie Georgette en mode stand up - Zidani - Comédie en île
DESCRIPTION:Mamie Georgette en mode Stand Up\nZidani\nDu 22 au 26 avril 2026 \nDébut spectacle: 20:00 en semaine et 16:00 le dimanche\nOuverture des portes: 19:15 en semaine et 15:15 le dimanche\nDurée du spectacle: 90 minutes \nMamie Georgette\, « déconfine » déjà depuis un moment. En effet depuis le décès de son mari Marcel (qu’on appelle Léon)\, qu’elle aimait tant\, Georgette vit son veuvage d’une manière bien différente de ce qu’on pourrait imaginer. Elle part en voyage à Pigalle\, découvre « le droit » d’avoir une carte bancaire\, fait des « strip poker » avec ses copines\, mais surtout elle écrit. Oui ! Georgette écrit un livre sur la place de la femme dans la chanson française. \nAlors si vous voulez tout savoir comment Georgette Plana a influencé Diams et le rap\, si vous voulez vivre un moment Rock Bal musette Kitsh Pop\, c’est le bon choix. Et « attention »\, avec Georgette\, t’es pas à l’abri d’une bonne surprise. Si l’une ou l’autre de ses copines serait disponible pour une soirée au château… \nMamie Georgette\, une sorte de carambolage génétique entre Georgette Plana et Mylène Farmer.
URL:https://www.cultureliege.be/evenement/mamie-georgette-en-mode-stand-up-zidani-comedie-en-ile/
LOCATION:La Comédie en Ile de Liège\, rue Méan 11-13\, LIEGE\, Liège\, 4020\, Belgique
CATEGORIES:Evénements,Soirée Stand-up,Spectacles
ATTACH;FMTTYPE=image/jpeg:https://www.cultureliege.be/wp-content/uploads/2025/02/La-Comedie-en-ile-de-Liege.jpg
ORGANIZER;CN="La Com%C3%A9die en %C3%8Fle de Li%C3%A8ge":MAILTO:info@comedieenile.be
END:VEVENT
BEGIN:VEVENT
DTSTART;TZID=Europe/Paris:20260422T210000
DTEND;TZID=Europe/Paris:20260426T223000
DTSTAMP:20260422T013612
CREATED:20260407T085944Z
LAST-MODIFIED:20260413T113406Z
UID:57086-1776891600-1777242600@www.cultureliege.be
SUMMARY:Soirée VIP - Ruttten et Leborgne - Comédie centrale
DESCRIPTION:Soirée V.I.P (Vieux improvisateurs prêts à tout!) – Renaud Ruttten et Olivier Leborgne du 22 au 26 avril 2026 \nDébut spectacle: Me\, Je\, Ve et Sa 21h – Di 17h\nOuverture des portes: 45 minutes avant la séance\nDurée du spectacle: 90 minutes \nVingt-cinq années de regards en coin\, d’escarmouches verbales à distance. \nUn quart de siècle que ces deux virtuoses de la répartie s’observent\, se jaugent\, se défient sur les planches de l’improvisation. \nSous la baguette inspirée de Marc Andreini\, ces deux gladiateurs de l’absurde vont de nouveau s’affronter dans une joute verbale inédite où l’imprévisible le disputera au sublime. \nTel un ballet improbable entre un éléphant et une tomate cerise\, l’improvisation est un art périlleux qui exige finesse et démesure.\nSans le talent nécessaire\, ce cocktail explosif peut rapidement tourner au vinaigre… \nMais rassurez-vous : nos deux saltimbanques sont passés maîtres dans l’art délicat de transformer le chaos en pépites d’or comique.\nLeurs années d’expérience leur ont appris à danser sur le fil du rasoir\, là où le rire côtoie l’impossible. \nAlors ne tardez plus et réservez vos places pour ce duel d’escrime oratoire où les mots claquent comme des fleurets et où l’humour\, délicieusement incorrect\, jaillit comme des étincelles. \nTrois soirées qui s’annoncent aussi uniques qu’inoubliables !
URL:https://www.cultureliege.be/evenement/soiree-vip-ruttten-et-leborgne-comedie-centrale/
LOCATION:Comédie Centrale de Liège\, rue du Plan Incliné 87\, LIEGE\, Liège\, 4000\, Belgique
CATEGORIES:Evénements,Spectacles
ATTACH;FMTTYPE=image/png:https://www.cultureliege.be/wp-content/uploads/2018/10/comedie-centrale.png
ORGANIZER;CN="Com%C3%A9die Centrale de Li%C3%A8ge":MAILTO:liege@comediecentrale.com
END:VEVENT
END:VCALENDAR