BEGIN:VCALENDAR
VERSION:2.0
PRODID:-//L’art, la culture et l’histoire  comme tremplins vers l’excellence.  - ECPv6.15.20//NONSGML v1.0//EN
CALSCALE:GREGORIAN
METHOD:PUBLISH
X-ORIGINAL-URL:https://www.cultureliege.be
X-WR-CALDESC:Évènements pour L’art, la culture et l’histoire  comme tremplins vers l’excellence. 
REFRESH-INTERVAL;VALUE=DURATION:PT1H
X-Robots-Tag:noindex
X-PUBLISHED-TTL:PT1H
BEGIN:VTIMEZONE
TZID:Europe/Paris
BEGIN:DAYLIGHT
TZOFFSETFROM:+0100
TZOFFSETTO:+0200
TZNAME:CEST
DTSTART:20250330T010000
END:DAYLIGHT
BEGIN:STANDARD
TZOFFSETFROM:+0200
TZOFFSETTO:+0100
TZNAME:CET
DTSTART:20251026T010000
END:STANDARD
BEGIN:DAYLIGHT
TZOFFSETFROM:+0100
TZOFFSETTO:+0200
TZNAME:CEST
DTSTART:20260329T010000
END:DAYLIGHT
BEGIN:STANDARD
TZOFFSETFROM:+0200
TZOFFSETTO:+0100
TZNAME:CET
DTSTART:20261025T010000
END:STANDARD
BEGIN:DAYLIGHT
TZOFFSETFROM:+0100
TZOFFSETTO:+0200
TZNAME:CEST
DTSTART:20270328T010000
END:DAYLIGHT
BEGIN:STANDARD
TZOFFSETFROM:+0200
TZOFFSETTO:+0100
TZNAME:CET
DTSTART:20271031T010000
END:STANDARD
END:VTIMEZONE
BEGIN:VEVENT
DTSTART;TZID=Europe/Paris:20260123T200000
DTEND;TZID=Europe/Paris:20260123T213000
DTSTAMP:20260420T013625
CREATED:20251211T133110Z
LAST-MODIFIED:20260413T113405Z
UID:56316-1769198400-1769203800@www.cultureliege.be
SUMMARY:LE REPAS DES FAUVES au Théâtre L'Autre Rive à Polleur (THEUX)
DESCRIPTION:! Notre région sous les projecteurs !\n\nLE REPAS DES FAUVES\n\n\n\nThéâtre\n\n\n\nPar le Théâtre du Souffle\n\n\nDe Vahé Katcha\n\n\nMise en scène\, scénographie : Renzo Eliseo\n\n\nAvec : Corinne Buggenhout\, Rodolphe Cornet\, Tristan Dejardin\, André Detiffe\, Sabine Gullmann\, Vincent Moreau\, Réginald Parotte et Charles Wery\n\n\n\n\n\n\n\n\n Vendredi 23 Janvier 2026 à 20H00 \n\n\n\n\n\n\n\n\nTitre              LE REPAS DES FAUVES\n\n\n\nDates            Vendredi 23 janvier 2026 à 20h \nLieu             Au Théâtre l’Autre Rive \n\n\n\n                      rue V. Brodure 63 – 4910 THEUX (Polleur)\n\n\nEvènement Evènement du Centre culturel de THEUX\n\n\nDurée          01H30\nPublic          Théâtre Jeune Public (dès 3 ans) & Familles\n\n\n \n\n\n\nDescription\n\n\n\n\n\n\n\n\n\n\n\n\n\n\n\nParis\, 1942. Sous l’Occupation allemande\, sept amis se retrouvent pour fêter l’anniversaire de Sophie. La soirée se déroule sous les meilleurs auspices. Soudainement\, au dehors\, deux officiers allemands sont abattus. C’est alors que le Commandant Kaubach surgit parmi les convives et exige deux otages en guise de représailles. C’est avec un total mépris que le Commandant décide de les laisser finir leur diner. Il repassera au moment du dessert prendre ses otages. Mais il leur laisse le champ libre puisqu’ils auront à choisir eux-mêmes les deux otages qui le suivront. Entre les sept « amis »\, le dialogue s’engage… âpre\, dur\, sans pitié ni concessions. Dégoulinant de veulerie\, suintant d’une lâcheté bien compréhensible\, « Le Repas des fauves » devient un chacun pour soi où tous les coups sont permis.\n\n\n \n\n\n\nCette comédie dramatique grinçante et glaçante\, cependant non dénuée d’humour\, ne cesse de rebondir. Les caractères se dévoilent\, les vernis éclatent et les révélations fusent. Qui mérite de survivre ? Qui peut être sacrifié ? Vivre ou mourir ?\n\n\n\n\n\n\n \n\n\n\n\n\n Tarif :               ➡️ PAF : 12€ \n\n                                  (Jeunes -25 ans\, carte Prof\, demandeurs d’emploi) / 10€\n                                  Bénéficiaire Article 27 : 1\,25€\n\n\n\n\n\n\n\n\n\n\n\n\n\n\n \n\n\n\nRéservation indispensable au CCTheux (places limitées) – Billetterie en ligne disponible\n\n\n \n\n\n\nUne organisation du Centre Culturel de Theux – www.cctheux.be – 087/646423 – centreculturel@theux.be en collaboration avec le PAC Verviers\n\n\n\n\n\n\nPour plus d’infos sur cet évènement\, n’hésitez pas à vous renseigner auprès du\n\n\nCentre culturel de Theux\n\n\nMadame Hélène Verwilghen\n\n\nSecrétaire\n\n\n  Place Pascal Taskin 1 – 4910 THEUX\n\n\n 087/64.64.23 –  Centre.Culturel@theux.be\n\n\n                       https://www.cctheux.be/\n\n                        Heures d’ouverture : du Lundi au Vendredi de 09H00 à 17H00
URL:https://www.cultureliege.be/evenement/le-repas-des-fauves-au-theatre-lautre-rive-a-polleur-theux/
LOCATION:Théâtre l’Autre Rive\, rue Victor Brodure 63\, POLLEUR (Theux)\, Liège\, 4910\, Belgique
CATEGORIES:Evénements,Théâtre
ATTACH;FMTTYPE=image/jpeg:https://www.cultureliege.be/wp-content/uploads/2025/07/Centre-culturel-de-Theux.jpg
ORGANIZER;CN="Centre culturel de Theux":MAILTO:centreculturel@theux.be
END:VEVENT
BEGIN:VEVENT
DTSTART;TZID=Europe/Paris:20260123T200000
DTEND;TZID=Europe/Paris:20260123T233000
DTSTAMP:20260420T013625
CREATED:20260105T153110Z
LAST-MODIFIED:20260413T113405Z
UID:56542-1769198400-1769211000@www.cultureliege.be
SUMMARY:Huit Femmes à la Salle 'aux Waroux' à LIEGE
DESCRIPTION:Huit Femmes\n\n\nThéâtre\n\n\n D1u 6 Janvier au 07 Février 2026\n\n\nVendredi 16 janvier à 20h.\n\n\nSamedi 17 janvier à 20h.\n\n\nMercredi 21 janvier à 20h.\n\n\n Vendredi 23 janvier à 20h. \n\n\n Samedi 24 janvier à 20 h.\n\n\n Vendredi 30 janvier à 20h.\n\n\n Samedi 31 janvier à 20h.\n\n\n Dimanche 1er février à 15h.\n\n\n Vendredi 6 février à 20h.\n\n\n Samedi 7 février à 20h.\n\n\n\n\n\n\n\n \n\n\nTitre              Huit Femes\n\nDate               Du 16 Janvier au 07 Février 2026 \n\n\n                            Vendredi 23 janvier à 20h.\n\n\n\nLieu              à la Salle ‘aux Waroux’\n\n\n                       rue De Waroux 27 – 4000 LIEGE\n\n\nEvènement  Évènement de Liège Studio Théâtre de Liège\n\n\nDurée           03H30\n\n\n\nPublic           Tout le monde sur ou en dehors de Facebook \n\n\n\n\n\n\nDescription :\n\n\n\n\n\n\n\n\nUne maison isolée\, un meurtre\, huit femmes aussi brillantes qu’imprévisibles… Sur scène\, les secrets se dévoilent\, les alliances se font et se défont\, et le suspense se glisse derrière chaque réplique. Entre rires\, tensions et révélations\, la pièce vous entraîne dans un huis clos savoureux\, où chaque personnage brille d’une intensité singulière.\n\n\nNotre troupe a mis tout son cœur et son énergie dans cette adaptation : un décor étonnant\, des costumes mettant en évidence certains indices\, une ambiance enveloppante typique des « murder party » et surtout huit comédiennes qui donnent vie\, avec passion\, à ce classique irrésistible.\n\n\n\n\n\n\n\n\n \n\n\nPrix :          ℹ️12€ et 10€ pour les étudiants et les plus de 65 ans.          \n\n\n\n\n\n \n\n\nPour plus d’infos sur cet évènement\, n’hésitez pas à vous renseigner auprès de\n\n\n\n\n\n\n\n\nStudio Théâtre de Liège – STL\n rue de Waroux 27 – 4000 LIEGE\n\n\n\n\n0494/773 610  –  info@studiotheatredeliege.be\n\n                  https://www.studiotheatredeliege.be/\n\n\n\n\n\n\nCordiale(s) invitation(s) à tous(tes).
URL:https://www.cultureliege.be/evenement/huit-femmes-a-la-salle-aux-waroux-a-liege-4/
LOCATION:Salle Aux Waroux’\, rue de Waroux 27\, LIEGE\, Liège\, 4000\, Belgium
CATEGORIES:Evénements,Théâtre
ATTACH;FMTTYPE=image/jpeg:https://www.cultureliege.be/wp-content/uploads/2026/01/Studio-Theatre-de-Liege-STL.jpg
ORGANIZER;CN="Studio Th%C3%A9%C3%A2tre de Li%C3%A8ge - STL":MAILTO:info@studiotheatredeliege.be
END:VEVENT
END:VCALENDAR