BEGIN:VCALENDAR
VERSION:2.0
PRODID:-//L’art, la culture et l’histoire  comme tremplins vers l’excellence.  - ECPv6.15.20//NONSGML v1.0//EN
CALSCALE:GREGORIAN
METHOD:PUBLISH
X-ORIGINAL-URL:https://www.cultureliege.be
X-WR-CALDESC:Évènements pour L’art, la culture et l’histoire  comme tremplins vers l’excellence. 
REFRESH-INTERVAL;VALUE=DURATION:PT1H
X-Robots-Tag:noindex
X-PUBLISHED-TTL:PT1H
BEGIN:VTIMEZONE
TZID:Europe/Paris
BEGIN:DAYLIGHT
TZOFFSETFROM:+0100
TZOFFSETTO:+0200
TZNAME:CEST
DTSTART:20250330T010000
END:DAYLIGHT
BEGIN:STANDARD
TZOFFSETFROM:+0200
TZOFFSETTO:+0100
TZNAME:CET
DTSTART:20251026T010000
END:STANDARD
BEGIN:DAYLIGHT
TZOFFSETFROM:+0100
TZOFFSETTO:+0200
TZNAME:CEST
DTSTART:20260329T010000
END:DAYLIGHT
BEGIN:STANDARD
TZOFFSETFROM:+0200
TZOFFSETTO:+0100
TZNAME:CET
DTSTART:20261025T010000
END:STANDARD
BEGIN:DAYLIGHT
TZOFFSETFROM:+0100
TZOFFSETTO:+0200
TZNAME:CEST
DTSTART:20270328T010000
END:DAYLIGHT
BEGIN:STANDARD
TZOFFSETFROM:+0200
TZOFFSETTO:+0100
TZNAME:CET
DTSTART:20271031T010000
END:STANDARD
END:VTIMEZONE
BEGIN:VEVENT
DTSTART;TZID=Europe/Paris:20260506T200000
DTEND;TZID=Europe/Paris:20260506T213000
DTSTAMP:20260420T173528
CREATED:20260410T092617Z
LAST-MODIFIED:20260413T113403Z
UID:57139-1778097600-1778103000@www.cultureliege.be
SUMMARY:Zac Bulle en Europe - Zac Bulle - Comédie en île
DESCRIPTION:ZAC BULLE EN EUROPE\nZac Bulle\nLe 6 mai 2026 \nDébut spectacle: 20:00\nOuverture des portes: 19:15\nDurée du spectacle: 90 minutes \nPour la première fois en Europe et après des années à créer des vidéos étranges sur internet\, le petit Zac Bulle de 8 ans et demi passe du web à la scène avec son tout premier spectacle… qu’il est encore en train de bricoler. Dans ce rodage éclaté qui mélange stand-up\, mises en scènes et personnages extravagants (vous connaissez Zac Gentleman ?) Zac vous embarque dans son univers décalé et enfantin. Attendez-vous à un humour absurde\, bizarre\, parfois troublant… mais surtout très con.
URL:https://www.cultureliege.be/evenement/zac-bulle-en-europe-zac-bulle-comedie-en-ile/
LOCATION:La Comédie en Ile de Liège\, rue Méan 11-13\, LIEGE\, Liège\, 4020\, Belgique
CATEGORIES:Evénements,One Man Show,Spectacles
ATTACH;FMTTYPE=image/jpeg:https://www.cultureliege.be/wp-content/uploads/2025/02/La-Comedie-en-ile-de-Liege.jpg
ORGANIZER;CN="La Com%C3%A9die en %C3%8Fle de Li%C3%A8ge":MAILTO:info@comedieenile.be
END:VEVENT
END:VCALENDAR