BEGIN:VCALENDAR
VERSION:2.0
PRODID:-//L’art, la culture et l’histoire  comme tremplins vers l’excellence.  - ECPv6.15.20//NONSGML v1.0//EN
CALSCALE:GREGORIAN
METHOD:PUBLISH
X-ORIGINAL-URL:https://www.cultureliege.be
X-WR-CALDESC:Évènements pour L’art, la culture et l’histoire  comme tremplins vers l’excellence. 
REFRESH-INTERVAL;VALUE=DURATION:PT1H
X-Robots-Tag:noindex
X-PUBLISHED-TTL:PT1H
BEGIN:VTIMEZONE
TZID:Europe/Paris
BEGIN:DAYLIGHT
TZOFFSETFROM:+0100
TZOFFSETTO:+0200
TZNAME:CEST
DTSTART:20250330T010000
END:DAYLIGHT
BEGIN:STANDARD
TZOFFSETFROM:+0200
TZOFFSETTO:+0100
TZNAME:CET
DTSTART:20251026T010000
END:STANDARD
BEGIN:DAYLIGHT
TZOFFSETFROM:+0100
TZOFFSETTO:+0200
TZNAME:CEST
DTSTART:20260329T010000
END:DAYLIGHT
BEGIN:STANDARD
TZOFFSETFROM:+0200
TZOFFSETTO:+0100
TZNAME:CET
DTSTART:20261025T010000
END:STANDARD
BEGIN:DAYLIGHT
TZOFFSETFROM:+0100
TZOFFSETTO:+0200
TZNAME:CEST
DTSTART:20270328T010000
END:DAYLIGHT
BEGIN:STANDARD
TZOFFSETFROM:+0200
TZOFFSETTO:+0100
TZNAME:CET
DTSTART:20271031T010000
END:STANDARD
END:VTIMEZONE
BEGIN:VEVENT
DTSTART;TZID=Europe/Paris:20260507T200000
DTEND;TZID=Europe/Paris:20260508T213000
DTSTAMP:20260420T160429
CREATED:20260410T093610Z
LAST-MODIFIED:20260413T113403Z
UID:57141-1778184000-1778275800@www.cultureliege.be
SUMMARY:N'oublie pas de rêver - Elliot Jenicot - Comédie en île
DESCRIPTION:N’oublie pas de rêver\nElliot Jenicot\nLes 7 et 8 mai 2026 \nDébut spectacle: 20:00\nOuverture des portes: 19:15\nDurée du spectacle: 90 minutes \n » N’oublie pas de rêver  » \nUn ordre … pas un conseil. \nEn fouillant dans ses souvenirs\, Elliot Jenicot fait apparaître des récits farfelus et des personnages improbables dont on ne sait plus très bien s’ils sont réels… ou si l’imaginaire en a fait son affaire. \nUn spectacle\, drôle\, nostalgique et percutant\, où l’on découvre que\, finalement\, on ne se débarrasse jamais vraiment de ses souvenirs… on apprend simplement à rêver avec eux .
URL:https://www.cultureliege.be/evenement/noublie-pas-de-rever-elliot-jenicot-comedie-en-ile/
LOCATION:La Comédie en Ile de Liège\, rue Méan 11-13\, LIEGE\, Liège\, 4020\, Belgique
CATEGORIES:Evénements,One Man Show,Spectacles
ATTACH;FMTTYPE=image/jpeg:https://www.cultureliege.be/wp-content/uploads/2025/02/La-Comedie-en-ile-de-Liege.jpg
ORGANIZER;CN="La Com%C3%A9die en %C3%8Fle de Li%C3%A8ge":MAILTO:info@comedieenile.be
END:VEVENT
END:VCALENDAR