BEGIN:VCALENDAR
VERSION:2.0
PRODID:-//L’art, la culture et l’histoire  comme tremplins vers l’excellence.  - ECPv6.15.20//NONSGML v1.0//EN
CALSCALE:GREGORIAN
METHOD:PUBLISH
X-WR-CALNAME:L’art, la culture et l’histoire  comme tremplins vers l’excellence. 
X-ORIGINAL-URL:https://www.cultureliege.be
X-WR-CALDESC:Évènements pour L’art, la culture et l’histoire  comme tremplins vers l’excellence. 
REFRESH-INTERVAL;VALUE=DURATION:PT1H
X-Robots-Tag:noindex
X-PUBLISHED-TTL:PT1H
BEGIN:VTIMEZONE
TZID:Europe/Paris
BEGIN:DAYLIGHT
TZOFFSETFROM:+0100
TZOFFSETTO:+0200
TZNAME:CEST
DTSTART:20250330T010000
END:DAYLIGHT
BEGIN:STANDARD
TZOFFSETFROM:+0200
TZOFFSETTO:+0100
TZNAME:CET
DTSTART:20251026T010000
END:STANDARD
BEGIN:DAYLIGHT
TZOFFSETFROM:+0100
TZOFFSETTO:+0200
TZNAME:CEST
DTSTART:20260329T010000
END:DAYLIGHT
BEGIN:STANDARD
TZOFFSETFROM:+0200
TZOFFSETTO:+0100
TZNAME:CET
DTSTART:20261025T010000
END:STANDARD
BEGIN:DAYLIGHT
TZOFFSETFROM:+0100
TZOFFSETTO:+0200
TZNAME:CEST
DTSTART:20270328T010000
END:DAYLIGHT
BEGIN:STANDARD
TZOFFSETFROM:+0200
TZOFFSETTO:+0100
TZNAME:CET
DTSTART:20271031T010000
END:STANDARD
END:VTIMEZONE
BEGIN:VEVENT
DTSTART;TZID=Europe/Paris:20261009T200000
DTEND;TZID=Europe/Paris:20261009T213000
DTSTAMP:20260422T043746
CREATED:20260421T081611Z
LAST-MODIFIED:20260421T081612Z
UID:57275-1791576000-1791581400@www.cultureliege.be
SUMMARY:Trop âgé - Vincent Pagé - Comédie en île
DESCRIPTION:Trop âgé\nVincent Pagé\nLe 9 octobre 2026 \nDébut spectacle: 20:00\nOuverture des portes: 45 minutes avant la séance \nDurée du spectacle: 90 minutes \nVous n’avez pas l’impression d’avoir changé\, dans votre tête vous avez toujours…40 ans\, mais la société\, elle\, ne regarde que votre année de naissance et considère que tout doucement\, on vous a assez vu.\nVous devenez donc la cible prioritaire des « plans de restructuration »\, « plans de prépension »\, de « passage à mi-temps amélioré ».\nC’est sûr\, vous n’allez plus être engagé nulle part ; dans le sport\, vous avez dépassé la date de péremption ; sexuellement\, vous êtes sur la pente descendante ; dans vos goûts et vos passions\, vous devenez un « classic » et vos idoles de jeunesse font la couverture du magazine « notre temps ».\nQue vous reste-t-il comme perspective\, à part devenir Premier ministre en France (si on n’a pas trouvé plus jeune) ou Pape ? \nTout ça est terrorisant voire même traumatisant alors on doit s’en amuser !
URL:https://www.cultureliege.be/evenement/trop-age-vincent-page-comedie-en-ile/
LOCATION:La Comédie en Ile de Liège\, rue Méan 11-13\, LIEGE\, Liège\, 4020\, Belgique
CATEGORIES:Evénements,One Man Show,Spectacles
ATTACH;FMTTYPE=image/jpeg:https://www.cultureliege.be/wp-content/uploads/2025/02/La-Comedie-en-ile-de-Liege.jpg
ORGANIZER;CN="La Com%C3%A9die en %C3%8Fle de Li%C3%A8ge":MAILTO:info@comedieenile.be
END:VEVENT
END:VCALENDAR