BEGIN:VCALENDAR
VERSION:2.0
PRODID:-//L’art, la culture et l’histoire  comme tremplins vers l’excellence.  - ECPv6.15.20//NONSGML v1.0//EN
CALSCALE:GREGORIAN
METHOD:PUBLISH
X-WR-CALNAME:L’art, la culture et l’histoire  comme tremplins vers l’excellence. 
X-ORIGINAL-URL:https://www.cultureliege.be
X-WR-CALDESC:Évènements pour L’art, la culture et l’histoire  comme tremplins vers l’excellence. 
REFRESH-INTERVAL;VALUE=DURATION:PT1H
X-Robots-Tag:noindex
X-PUBLISHED-TTL:PT1H
BEGIN:VTIMEZONE
TZID:Europe/Paris
BEGIN:DAYLIGHT
TZOFFSETFROM:+0100
TZOFFSETTO:+0200
TZNAME:CEST
DTSTART:20250330T010000
END:DAYLIGHT
BEGIN:STANDARD
TZOFFSETFROM:+0200
TZOFFSETTO:+0100
TZNAME:CET
DTSTART:20251026T010000
END:STANDARD
BEGIN:DAYLIGHT
TZOFFSETFROM:+0100
TZOFFSETTO:+0200
TZNAME:CEST
DTSTART:20260329T010000
END:DAYLIGHT
BEGIN:STANDARD
TZOFFSETFROM:+0200
TZOFFSETTO:+0100
TZNAME:CET
DTSTART:20261025T010000
END:STANDARD
BEGIN:DAYLIGHT
TZOFFSETFROM:+0100
TZOFFSETTO:+0200
TZNAME:CEST
DTSTART:20270328T010000
END:DAYLIGHT
BEGIN:STANDARD
TZOFFSETFROM:+0200
TZOFFSETTO:+0100
TZNAME:CET
DTSTART:20271031T010000
END:STANDARD
END:VTIMEZONE
BEGIN:VEVENT
DTSTART;TZID=Europe/Paris:20261112T200000
DTEND;TZID=Europe/Paris:20261115T213000
DTSTAMP:20260421T222550
CREATED:20260421T084928Z
LAST-MODIFIED:20260421T084928Z
UID:57281-1794513600-1794778200@www.cultureliege.be
SUMMARY:haut en couleurs - Jean-Yves Girin - Comédie en île
DESCRIPTION:Haut en couleurs\nJean-Yves Girin\nDu 12 au 15 novembre 2026 \nDébut spectacle: 20:00\nOuverture des portes: 45 minutes avant la séance\nDurée du spectacle: 90 minutes \nJean-Yves\, moitié du duo « Les Zindésirables »\, présente son solo « Haut en couleur »\, un spectacle à son image : drôle\, vif et surprenant.\nEntre humour débridé\, clins d’œil au développement personnel et interactions improvisées avec le public\, il nous embarque dans un moment de partage joyeux aussi pétillant qu’inspirant. \nVenez…\nVous comprendrez qu’il est tout à fait possible d’apprendre sur soi et sur les autres en s’amusant. \n 
URL:https://www.cultureliege.be/evenement/haut-en-couleurs-jean-yves-girin-comedie-en-ile/
LOCATION:La Comédie en Ile de Liège\, rue Méan 11-13\, LIEGE\, Liège\, 4020\, Belgique
CATEGORIES:Evénements,Spectacles
ATTACH;FMTTYPE=image/jpeg:https://www.cultureliege.be/wp-content/uploads/2025/02/La-Comedie-en-ile-de-Liege.jpg
ORGANIZER;CN="La Com%C3%A9die en %C3%8Fle de Li%C3%A8ge":MAILTO:info@comedieenile.be
END:VEVENT
END:VCALENDAR