BEGIN:VCALENDAR
VERSION:2.0
PRODID:-//L’art, la culture et l’histoire  comme tremplins vers l’excellence.  - ECPv6.15.20//NONSGML v1.0//EN
CALSCALE:GREGORIAN
METHOD:PUBLISH
X-ORIGINAL-URL:https://www.cultureliege.be
X-WR-CALDESC:Évènements pour L’art, la culture et l’histoire  comme tremplins vers l’excellence. 
REFRESH-INTERVAL;VALUE=DURATION:PT1H
X-Robots-Tag:noindex
X-PUBLISHED-TTL:PT1H
BEGIN:VTIMEZONE
TZID:Europe/Paris
BEGIN:DAYLIGHT
TZOFFSETFROM:+0100
TZOFFSETTO:+0200
TZNAME:CEST
DTSTART:20250330T010000
END:DAYLIGHT
BEGIN:STANDARD
TZOFFSETFROM:+0200
TZOFFSETTO:+0100
TZNAME:CET
DTSTART:20251026T010000
END:STANDARD
BEGIN:DAYLIGHT
TZOFFSETFROM:+0100
TZOFFSETTO:+0200
TZNAME:CEST
DTSTART:20260329T010000
END:DAYLIGHT
BEGIN:STANDARD
TZOFFSETFROM:+0200
TZOFFSETTO:+0100
TZNAME:CET
DTSTART:20261025T010000
END:STANDARD
BEGIN:DAYLIGHT
TZOFFSETFROM:+0100
TZOFFSETTO:+0200
TZNAME:CEST
DTSTART:20270328T010000
END:DAYLIGHT
BEGIN:STANDARD
TZOFFSETFROM:+0200
TZOFFSETTO:+0100
TZNAME:CET
DTSTART:20271031T010000
END:STANDARD
END:VTIMEZONE
BEGIN:VEVENT
DTSTART;TZID=Europe/Paris:20260421T200000
DTEND;TZID=Europe/Paris:20260517T220000
DTSTAMP:20260425T134249
CREATED:20260421T100416Z
LAST-MODIFIED:20260421T100416Z
UID:57295-1776801600-1779055200@www.cultureliege.be
SUMMARY:Le Temps des Cerises - A la Courte Echelle
DESCRIPTION:Le Temps des Cerises\nSpectacle de l’Atelier Théâtre Ados 16-18 ans \nVendredi 15 mai 2026 à 20h00\nSamedi 16 mai 2026 à 15h00\nDimanche 17 mai 2026 à 15h00 \nAu très traditionnel Collège de l’Enfant Jésus de Nazareth\, Madame Cellini\, nouvelle professeure de chant aux méthodes pédagogiques résolument progressistes\, se heurte rapidement à l’hostilité du corps enseignant. La confrontation entre ses pratiques novatrices et l’institution conservatrice prendra une tournure fatale.Un spectacle qui interroge un monde en mutation\, où des adultes déboussolés peinent à se réinventer tandis que les jeunes tentent d’imposer de nouvelles valeurs et de nouveaux modèles.Une création collective de et avec: \nLoan Barbas\, Phileas Blavier\, Eva Bragard\, Olga Collet\, Cyrille Dambermont\, Emir Demir\, Giorgia Detourbe\, Chloé George\, Olivia Grégoire\, Joséphine Hitabatuma\, Louise Mahiels\, Éléonore Ramesh Kumar\, Shaïna Rodriguez\, Eline Schoutteten\, Hadrien Thiry\, Zoé Vandewalle et Charlène Warnant.
URL:https://www.cultureliege.be/evenement/le-temps-des-cerises-a-la-courte-echelle/
LOCATION:A la courte Echelle\, rue de Rotterdam\, 29\, LIEGE\, Liège\, 4000\, Belgique
CATEGORIES:Evénements,Spectacles
ATTACH;FMTTYPE=image/png:https://www.cultureliege.be/wp-content/uploads/2026/04/A-la-Courte-Echelle.png
ORGANIZER;CN="A la courte Echelle":MAILTO:info@courte-echelle.be
END:VEVENT
END:VCALENDAR