BEGIN:VCALENDAR
VERSION:2.0
PRODID:-//L’art, la culture et l’histoire  comme tremplins vers l’excellence.  - ECPv6.15.20//NONSGML v1.0//EN
CALSCALE:GREGORIAN
METHOD:PUBLISH
X-WR-CALNAME:L’art, la culture et l’histoire  comme tremplins vers l’excellence. 
X-ORIGINAL-URL:https://www.cultureliege.be
X-WR-CALDESC:Évènements pour L’art, la culture et l’histoire  comme tremplins vers l’excellence. 
REFRESH-INTERVAL;VALUE=DURATION:PT1H
X-Robots-Tag:noindex
X-PUBLISHED-TTL:PT1H
BEGIN:VTIMEZONE
TZID:Europe/Paris
BEGIN:DAYLIGHT
TZOFFSETFROM:+0100
TZOFFSETTO:+0200
TZNAME:CEST
DTSTART:20250330T010000
END:DAYLIGHT
BEGIN:STANDARD
TZOFFSETFROM:+0200
TZOFFSETTO:+0100
TZNAME:CET
DTSTART:20251026T010000
END:STANDARD
BEGIN:DAYLIGHT
TZOFFSETFROM:+0100
TZOFFSETTO:+0200
TZNAME:CEST
DTSTART:20260329T010000
END:DAYLIGHT
BEGIN:STANDARD
TZOFFSETFROM:+0200
TZOFFSETTO:+0100
TZNAME:CET
DTSTART:20261025T010000
END:STANDARD
BEGIN:DAYLIGHT
TZOFFSETFROM:+0100
TZOFFSETTO:+0200
TZNAME:CEST
DTSTART:20270328T010000
END:DAYLIGHT
BEGIN:STANDARD
TZOFFSETFROM:+0200
TZOFFSETTO:+0100
TZNAME:CET
DTSTART:20271031T010000
END:STANDARD
END:VTIMEZONE
BEGIN:VEVENT
DTSTART;TZID=Europe/Paris:20260923T200000
DTEND;TZID=Europe/Paris:20260926T213000
DTSTAMP:20260425T173927
CREATED:20260421T075946Z
LAST-MODIFIED:20260421T075946Z
UID:57271-1790193600-1790458200@www.cultureliege.be
SUMMARY:Enchanté ! - Richard Ruben - Comédie en île
DESCRIPTION:En Chanté !\nRichard Ruben\nDu 23 au 26 septembre 2026 \nDébut spectacle: Me\, Je\, Ve et Sa à 20h\nOuverture des portes: 45 minutes avant la séance \nDurée du spectacle: 90 minutes \nRichard Ruben débarque à Liège pour fêter la 150ème de son incroyable spectacle « En Chanté ! » \nA travers ce spectacle puissant dans sa version 3.0\, notre showman national embarque son public dans un voyage drôle\, universel et tellement…Ruben ! \nUn road-movie intergénérationnel à travers l’Europe où l’on croise Amy Winehouse\, Sting\, Gims\, Pavarotti\, Elton John mais aussi Gonzague\, un douanier suisse\, un père hypocondriaque\, une grand-mère égyptienne\, une mère fantasque ou JCVD himself. \nUne performance de jeux\, de chant et d’imitations qui va vous transporter !\nLe tout\, co-écrit avec Sam Touzani\, accompagné par le musicien Thom Dewatt qui joue sur scène plus de huit instruments ! \n…Pour le plus grand bonheur de vos oreilles et de vos zygomatiques ! \nUn retour à Liège à ne pas rater !
URL:https://www.cultureliege.be/evenement/enchante-richard-ruben-comedie-en-ile/
LOCATION:La Comédie en Ile de Liège\, rue Méan 11-13\, LIEGE\, Liège\, 4020\, Belgique
CATEGORIES:One Man Show,Spectacles
ATTACH;FMTTYPE=image/jpeg:https://www.cultureliege.be/wp-content/uploads/2025/02/La-Comedie-en-ile-de-Liege.jpg
ORGANIZER;CN="La Com%C3%A9die en %C3%8Fle de Li%C3%A8ge":MAILTO:info@comedieenile.be
END:VEVENT
BEGIN:VEVENT
DTSTART;TZID=Europe/Paris:20260923T210000
DTEND;TZID=Europe/Paris:20261018T223000
DTSTAMP:20260425T173927
CREATED:20260410T080332Z
LAST-MODIFIED:20260413T113404Z
UID:57122-1790197200-1792362600@www.cultureliege.be
SUMMARY:L'amour à la carte- Comédie centrale
DESCRIPTION:L’AMOUR À LA CARTE\nde et avec Gaëlle Le Roy et Thierry Garçonnet\nDu 23 septembre au 18 octobre 2026 \nDébut spectacle: Me/Je 21h\, Ve/Sa 18h-21h\, Di 17h-20h\nOuverture des portes: 45 minutes avant la séance\nDurée du spectacle: 90 minutes \nComment aborder l’Amour en 2026 quand on entame sa 2ème vie après un divorce et qu’on traîne ses blessures et ses casseroles ?\nFaut-il se remettre sur le marché de la rencontre même si l’on n’a plus les codes ?\nTout les oppose et pourtant Manon et Max vont former une équipe atypique à l’assaut de cet univers impitoyable\, parsemé d’initiations improbables et de déconvenues ébouriffantes. \nVenez découvrir le champ des possibles et partez à l’aventure de L’amour à la carte !
URL:https://www.cultureliege.be/evenement/lamour-a-la-carte-comedie-centrale/
LOCATION:Comédie Centrale de Liège\, rue du Plan Incliné 87\, LIEGE\, Liège\, 4000\, Belgique
CATEGORIES:Evénements,Spectacles
ATTACH;FMTTYPE=image/png:https://www.cultureliege.be/wp-content/uploads/2018/10/comedie-centrale.png
ORGANIZER;CN="Com%C3%A9die Centrale de Li%C3%A8ge":MAILTO:liege@comediecentrale.com
END:VEVENT
END:VCALENDAR