BEGIN:VCALENDAR
VERSION:2.0
PRODID:-//L’art, la culture et l’histoire  comme tremplins vers l’excellence.  - ECPv6.15.20//NONSGML v1.0//EN
CALSCALE:GREGORIAN
METHOD:PUBLISH
X-ORIGINAL-URL:https://www.cultureliege.be
X-WR-CALDESC:Évènements pour L’art, la culture et l’histoire  comme tremplins vers l’excellence. 
REFRESH-INTERVAL;VALUE=DURATION:PT1H
X-Robots-Tag:noindex
X-PUBLISHED-TTL:PT1H
BEGIN:VTIMEZONE
TZID:Europe/Paris
BEGIN:DAYLIGHT
TZOFFSETFROM:+0100
TZOFFSETTO:+0200
TZNAME:CEST
DTSTART:20250330T010000
END:DAYLIGHT
BEGIN:STANDARD
TZOFFSETFROM:+0200
TZOFFSETTO:+0100
TZNAME:CET
DTSTART:20251026T010000
END:STANDARD
BEGIN:DAYLIGHT
TZOFFSETFROM:+0100
TZOFFSETTO:+0200
TZNAME:CEST
DTSTART:20260329T010000
END:DAYLIGHT
BEGIN:STANDARD
TZOFFSETFROM:+0200
TZOFFSETTO:+0100
TZNAME:CET
DTSTART:20261025T010000
END:STANDARD
BEGIN:DAYLIGHT
TZOFFSETFROM:+0100
TZOFFSETTO:+0200
TZNAME:CEST
DTSTART:20270328T010000
END:DAYLIGHT
BEGIN:STANDARD
TZOFFSETFROM:+0200
TZOFFSETTO:+0100
TZNAME:CET
DTSTART:20271031T010000
END:STANDARD
END:VTIMEZONE
BEGIN:VEVENT
DTSTART;TZID=Europe/Paris:20261029T200000
DTEND;TZID=Europe/Paris:20261031T213000
DTSTAMP:20260422T000338
CREATED:20260421T084210Z
LAST-MODIFIED:20260421T084211Z
UID:57279-1793304000-1793482200@www.cultureliege.be
SUMMARY:Cadavre exquis - Elisa Birsel et Mathieu laviolette - Comédie en île
DESCRIPTION:CADAVRE EXQUIS\nAvec Elisa Birsel et Mathieu Laviolette\nDu 29 au 31 octobre 2026 \nDébut spectacle: 20:00 en semaine et 16:00 le dimanche\nOuverture des portes: 45 minutes avant la séance \nDurée du spectacle: 90 minutes \nDrôle\, dynamique et déjanté \nÀ l’origine\, le cadavre exquis est un jeu littéraire qui consiste à composer un texte ou un dessin à plusieurs mains. \nChaque auteur ne voit qu’un fragment de l’écrit précédent\, qui lui sert de point de départ à sa propre contribution. \nC’est ainsi qu’est née la première comédie écrite sous forme de « Cadavre Exquis »\, par six auteurs\, dans un seul but : vous faire rire ! \nAlors oubliez tout ce que vous savez sur le théâtre et venez découvrir cette comédie folle\, absurde\, déjantée écrite de manière totalement inédite ! \nLe Saviez-vous ? \nUne pièce de de Loan Hill\, Olivier Maille\, Philippe Elno\, Jean-Yves Girin\, Peter Dervillez\, Jacques Chambon \, mis en scène par Marc Andreini
URL:https://www.cultureliege.be/evenement/cadavre-exquis-elisa-birsel-et-mathieu-laviolette-comedie-en-ile/
LOCATION:La Comédie en Ile de Liège\, rue Méan 11-13\, LIEGE\, Liège\, 4020\, Belgique
CATEGORIES:Evénements,Spectacles
ATTACH;FMTTYPE=image/jpeg:https://www.cultureliege.be/wp-content/uploads/2025/02/La-Comedie-en-ile-de-Liege.jpg
ORGANIZER;CN="La Com%C3%A9die en %C3%8Fle de Li%C3%A8ge":MAILTO:info@comedieenile.be
END:VEVENT
END:VCALENDAR