BEGIN:VCALENDAR
VERSION:2.0
PRODID:-//L’art, la culture et l’histoire  comme tremplins vers l’excellence.  - ECPv6.15.20//NONSGML v1.0//EN
CALSCALE:GREGORIAN
METHOD:PUBLISH
X-WR-CALNAME:L’art, la culture et l’histoire  comme tremplins vers l’excellence. 
X-ORIGINAL-URL:https://www.cultureliege.be
X-WR-CALDESC:Évènements pour L’art, la culture et l’histoire  comme tremplins vers l’excellence. 
REFRESH-INTERVAL;VALUE=DURATION:PT1H
X-Robots-Tag:noindex
X-PUBLISHED-TTL:PT1H
BEGIN:VTIMEZONE
TZID:Europe/Paris
BEGIN:DAYLIGHT
TZOFFSETFROM:+0100
TZOFFSETTO:+0200
TZNAME:CEST
DTSTART:20250330T010000
END:DAYLIGHT
BEGIN:STANDARD
TZOFFSETFROM:+0200
TZOFFSETTO:+0100
TZNAME:CET
DTSTART:20251026T010000
END:STANDARD
BEGIN:DAYLIGHT
TZOFFSETFROM:+0100
TZOFFSETTO:+0200
TZNAME:CEST
DTSTART:20260329T010000
END:DAYLIGHT
BEGIN:STANDARD
TZOFFSETFROM:+0200
TZOFFSETTO:+0100
TZNAME:CET
DTSTART:20261025T010000
END:STANDARD
BEGIN:DAYLIGHT
TZOFFSETFROM:+0100
TZOFFSETTO:+0200
TZNAME:CEST
DTSTART:20270328T010000
END:DAYLIGHT
BEGIN:STANDARD
TZOFFSETFROM:+0200
TZOFFSETTO:+0100
TZNAME:CET
DTSTART:20271031T010000
END:STANDARD
END:VTIMEZONE
BEGIN:VEVENT
DTSTART;TZID=Europe/Paris:20260523T093000
DTEND;TZID=Europe/Paris:20260523T180000
DTSTAMP:20260422T110836
CREATED:20260415T095009Z
LAST-MODIFIED:20260415T095009Z
UID:57243-1779528600-1779559200@www.cultureliege.be
SUMMARY:Immersion en Haute Ardenne: Salm et Lac des Doyards - Walclub
DESCRIPTION:WalClub – Immersion en Haute Ardenne : Salm & Lac des Doyards \n Samedi 23 mai 2026 Visite à 11h30 + promenade Vielsalm – Maison du Pays de Salm⸻\nEnvie de prendre l’air\, de découvrir notre patrimoine et de partager un moment convivial ?Le WalClub t’emmène au cœur de la Haute Ardenne pour une journée entre culture\, nature et détente.\n Au programme :\n Visite immersive de la Maison du Pays de SalmUn lieu moderne et interactif pour découvrir : les légendes et sorcières l’histoire des comtes de Salm la célèbre pierre à rasoir\n Balade autour du lac des DoyardsUn moment de détente dans un cadre naturel accessible à tous.\n Organisation pratique :• Rdv gare des Guillemins : 9h30• Départ train : 10h07• Retour vers 18h à Liège• Covoiturage possible\n Tarifs :• Membres : 7 €• Non-membres : 12 €\n Une journée parfaite pour : se ressourcer découvrir notre région partager un moment convivial\n Réservation : walclub@cultureliege.be Infos / SMS :• Walclub : 0471 02 01 64• Krystyna : 0496 75 46 31 Compte ING : BE40 3631 8862 8563\n Paiement = réservation Pas de remboursement Clôture 5 jours avant\n Places limitées – inscris-toi rapidement !
URL:https://www.cultureliege.be/evenement/immersion-en-haute-ardenne-salm-et-lac-des-doyards-walclub/
LOCATION:Vielsam\, Vielsam\, 6690
CATEGORIES:Balades - Randonnées -,Evénements,Visites Guidées
ATTACH;FMTTYPE=image/png:https://www.cultureliege.be/wp-content/uploads/2026/04/cropped-logo-240.png
ORGANIZER;CN="Walclub - Club de loisirs":MAILTO:walclub@cultureliege.be
END:VEVENT
END:VCALENDAR