BEGIN:VCALENDAR
VERSION:2.0
PRODID:-//L’art, la culture et l’histoire  comme tremplins vers l’excellence.  - ECPv6.15.20//NONSGML v1.0//EN
CALSCALE:GREGORIAN
METHOD:PUBLISH
X-ORIGINAL-URL:https://www.cultureliege.be
X-WR-CALDESC:Évènements pour L’art, la culture et l’histoire  comme tremplins vers l’excellence. 
REFRESH-INTERVAL;VALUE=DURATION:PT1H
X-Robots-Tag:noindex
X-PUBLISHED-TTL:PT1H
BEGIN:VTIMEZONE
TZID:Europe/Paris
BEGIN:DAYLIGHT
TZOFFSETFROM:+0100
TZOFFSETTO:+0200
TZNAME:CEST
DTSTART:20250330T010000
END:DAYLIGHT
BEGIN:STANDARD
TZOFFSETFROM:+0200
TZOFFSETTO:+0100
TZNAME:CET
DTSTART:20251026T010000
END:STANDARD
BEGIN:DAYLIGHT
TZOFFSETFROM:+0100
TZOFFSETTO:+0200
TZNAME:CEST
DTSTART:20260329T010000
END:DAYLIGHT
BEGIN:STANDARD
TZOFFSETFROM:+0200
TZOFFSETTO:+0100
TZNAME:CET
DTSTART:20261025T010000
END:STANDARD
BEGIN:DAYLIGHT
TZOFFSETFROM:+0100
TZOFFSETTO:+0200
TZNAME:CEST
DTSTART:20270328T010000
END:DAYLIGHT
BEGIN:STANDARD
TZOFFSETFROM:+0200
TZOFFSETTO:+0100
TZNAME:CET
DTSTART:20271031T010000
END:STANDARD
END:VTIMEZONE
BEGIN:VEVENT
DTSTART;TZID=Europe/Paris:20260528T083000
DTEND;TZID=Europe/Paris:20260528T200000
DTSTAMP:20260422T153857
CREATED:20260415T083506Z
LAST-MODIFIED:20260415T095514Z
UID:57229-1779957000-1779998400@www.cultureliege.be
SUMMARY:Ostende à l'ancre - Walclub
DESCRIPTION:WalClub – Ostende à l’ancre \n Jeudi 28 mai 2026 Départ Liège-Guillemins : 9h00 (rdv 8h30) Direction : Ostende & son célèbre festival maritime\nEnvie d’une escapade à la mer\, entre découverte\, ambiance festive et grand air ? \nLe WalClub vous emmène à Ostende à l’ancre\, le plus grand festival maritime du littoral belge \n Au programme :\n Des navires d’exceptionMonte à bord de voiliers\, trois-mâts et bateaux historiques\n Un véritable musée à ciel ouvertPlus de 150 navires et embarcations à découvrir\n Ambiance festive garantieChants marins\, fanfares et animations tout au long des quais\n Village des artisansDécouverte des métiers traditionnels de la mer\n Parade en merUn spectacle unique avec les bateaux quittant le port\n Groupe limité à 10 personnes\n Prix : Selon les activités (gratuites et payantes sur place) Prévoir du liquide\n À prévoir : bonnes chaussures\n Une journée idéale pour : s’évader découvrir partager un moment convivial\n⸻\n Réservation : walclub@cultureliege.be Infos / SMS :• Walclub : 0471 02 01 64• Krystyna : 0496 75 46 31\n Paiement = réservation Pas de remboursement Clôture : 21 mai\n⸻\n Places limitées – ne tardez pas !
URL:https://www.cultureliege.be/evenement/ostende-a-lancre-walclub/
LOCATION:Ostende\, 8400
CATEGORIES:Evénements,Tourisme
ATTACH;FMTTYPE=image/png:https://www.cultureliege.be/wp-content/uploads/2026/04/cropped-logo-240.png
ORGANIZER;CN="Walclub - Club de loisirs":MAILTO:walclub@cultureliege.be
END:VEVENT
END:VCALENDAR