BEGIN:VCALENDAR
VERSION:2.0
PRODID:-//L’art, la culture et l’histoire  comme tremplins vers l’excellence.  - ECPv6.15.20//NONSGML v1.0//EN
CALSCALE:GREGORIAN
METHOD:PUBLISH
X-ORIGINAL-URL:https://www.cultureliege.be
X-WR-CALDESC:Évènements pour L’art, la culture et l’histoire  comme tremplins vers l’excellence. 
REFRESH-INTERVAL;VALUE=DURATION:PT1H
X-Robots-Tag:noindex
X-PUBLISHED-TTL:PT1H
BEGIN:VTIMEZONE
TZID:Europe/Paris
BEGIN:DAYLIGHT
TZOFFSETFROM:+0100
TZOFFSETTO:+0200
TZNAME:CEST
DTSTART:20250330T010000
END:DAYLIGHT
BEGIN:STANDARD
TZOFFSETFROM:+0200
TZOFFSETTO:+0100
TZNAME:CET
DTSTART:20251026T010000
END:STANDARD
BEGIN:DAYLIGHT
TZOFFSETFROM:+0100
TZOFFSETTO:+0200
TZNAME:CEST
DTSTART:20260329T010000
END:DAYLIGHT
BEGIN:STANDARD
TZOFFSETFROM:+0200
TZOFFSETTO:+0100
TZNAME:CET
DTSTART:20261025T010000
END:STANDARD
BEGIN:DAYLIGHT
TZOFFSETFROM:+0100
TZOFFSETTO:+0200
TZNAME:CEST
DTSTART:20270328T010000
END:DAYLIGHT
BEGIN:STANDARD
TZOFFSETFROM:+0200
TZOFFSETTO:+0100
TZNAME:CET
DTSTART:20271031T010000
END:STANDARD
END:VTIMEZONE
BEGIN:VEVENT
DTSTART;TZID=Europe/Paris:20260626T100000
DTEND;TZID=Europe/Paris:20260626T120000
DTSTAMP:20260423T151556
CREATED:20260415T090850Z
LAST-MODIFIED:20260415T095436Z
UID:57235-1782468000-1782475200@www.cultureliege.be
SUMMARY:Plongée au cœur de l'OPRL - Walclub
DESCRIPTION:WalClub – Plongée au cœur de l’Orchestre Philharmonique Royal de Liège \n Vendredi 26 juin 2026 10h00 Salle Philharmonique – Boulevard Piercot\, Liège\nLe WalClub vous propose une expérience unique et immersive au cœur d’un lieu emblématique de notre ville \n Découvrez les coulisses de l’Orchestre Philharmonique Royal de Liège\, un joyau datant de 1887\n Au programme :\n Accès aux espaces habituellement fermés au public Découverte de l’acoustique exceptionnelle de la salle Observation de près du célèbre orgue Immersion dans le quotidien des musiciens\n Et pour prolonger le moment :Un verre de l’amitié vous sera proposé après la visite\n Groupe limité à 10 personnes\n Tarifs :• Membres : 6 €• Non-membres : 11 €\n Une activité parfaite pour : les amateurs de musique les curieux de patrimoine les amoureux de Liège\n Réservation : walclub@cultureliege.be Infos / SMS :• Walclub : 0471 02 01 64• Krystyna : 0496 75 46 31\n Compte ING : BE40 3631 8862 8563\n Paiement = réservation Pas de remboursement Clôture : 12 juin\n Une expérience rare à ne pas manquer !
URL:https://www.cultureliege.be/evenement/plongee-au-coeur-de-loprl-walclub/
LOCATION:Orchestre Philarmonique Royal de Liège\, Boulevard Piercot 25-27\, LIEGE\, Liège\, 4000\, Belgique
CATEGORIES:Evénements,Visites Guidées
ATTACH;FMTTYPE=image/png:https://www.cultureliege.be/wp-content/uploads/2026/04/cropped-logo-240.png
ORGANIZER;CN="Walclub - Club de loisirs":MAILTO:walclub@cultureliege.be
END:VEVENT
END:VCALENDAR